BEGIN:VCALENDAR
VERSION:2.0
PRODID:-//Stollery Children&#039;s Hospital Foundation - ECPv6.15.20//NONSGML v1.0//EN
CALSCALE:GREGORIAN
METHOD:PUBLISH
X-ORIGINAL-URL:https://www.stollerykids.com
X-WR-CALDESC:Events for Stollery Children&#039;s Hospital Foundation
REFRESH-INTERVAL;VALUE=DURATION:PT1H
X-Robots-Tag:noindex
X-PUBLISHED-TTL:PT1H
BEGIN:VTIMEZONE
TZID:America/Edmonton
BEGIN:DAYLIGHT
TZOFFSETFROM:-0700
TZOFFSETTO:-0600
TZNAME:MDT
DTSTART:20210314T090000
END:DAYLIGHT
BEGIN:STANDARD
TZOFFSETFROM:-0600
TZOFFSETTO:-0700
TZNAME:MST
DTSTART:20211107T080000
END:STANDARD
BEGIN:DAYLIGHT
TZOFFSETFROM:-0700
TZOFFSETTO:-0600
TZNAME:MDT
DTSTART:20220313T090000
END:DAYLIGHT
BEGIN:STANDARD
TZOFFSETFROM:-0600
TZOFFSETTO:-0700
TZNAME:MST
DTSTART:20221106T080000
END:STANDARD
BEGIN:DAYLIGHT
TZOFFSETFROM:-0700
TZOFFSETTO:-0600
TZNAME:MDT
DTSTART:20230312T090000
END:DAYLIGHT
BEGIN:STANDARD
TZOFFSETFROM:-0600
TZOFFSETTO:-0700
TZNAME:MST
DTSTART:20231105T080000
END:STANDARD
BEGIN:DAYLIGHT
TZOFFSETFROM:-0700
TZOFFSETTO:-0600
TZNAME:MDT
DTSTART:20240310T090000
END:DAYLIGHT
BEGIN:STANDARD
TZOFFSETFROM:-0600
TZOFFSETTO:-0700
TZNAME:MST
DTSTART:20241103T080000
END:STANDARD
END:VTIMEZONE
BEGIN:VEVENT
DTSTART;TZID=America/Edmonton:20221124T080000
DTEND;TZID=America/Edmonton:20221201T114500
DTSTAMP:20260424T192823
CREATED:20221125T193457Z
LAST-MODIFIED:20240605T222207Z
UID:10000236-1669276800-1669895100@www.stollerykids.com
SUMMARY:Stollery Youth Committee Online Auction
DESCRIPTION:The Stollery Youth Committee is hosting an online auction with proceeds going to the Stollery Children’s Hospital Foundation. Click here for the link to more information and the auction.
URL:https://www.stollerykids.com/event/stollery-youth-committee-online-auction/
LOCATION:AB
CATEGORIES:Community initiatives
ATTACH;FMTTYPE=image/png:https://www.stollerykids.com/content/uploads/2022/08/Stollery-proudly-supporting-logo_resized.png
ORGANIZER;CN="Stollery Youth Committee":MAILTO:syc@ualberta.ca
END:VEVENT
BEGIN:VEVENT
DTSTART;TZID=America/Edmonton:20221204T110000
DTEND;TZID=America/Edmonton:20221204T150000
DTSTAMP:20260424T192823
CREATED:20221129T185824Z
LAST-MODIFIED:20221129T185824Z
UID:10000237-1670151600-1670166000@www.stollerykids.com
SUMMARY:Moe's Stollery Kids Birdhouses - Winter Market
DESCRIPTION:Moe is making bird houses and selling them in Alberta Beach. All proceeds will be donated to the Stollery Children’s Hospital Foundation. Visit him at the upcoming 50 Plus Christmas Market on December 4 from 11 a.m. – 3 p.m. For more information\, contact Moe at earlamoe@hotmail.com.
URL:https://www.stollerykids.com/event/moes-stollery-kids-birdhouses-winter-market/
LOCATION:Heritage Centre\, 5012 49 Avenue\, Alberta Beach\, Alberta\, T0E 0A0\, Canada
CATEGORIES:Community initiatives
ATTACH;FMTTYPE=image/png:https://www.stollerykids.com/content/uploads/2022/08/Stollery-proudly-supporting-logo_resized.png
ORGANIZER;CN="Maurice Laberge":MAILTO:earlamoe@hotmail.com
END:VEVENT
BEGIN:VEVENT
DTSTART;TZID=America/Edmonton:20221212T100000
DTEND;TZID=America/Edmonton:20221212T210000
DTSTAMP:20260424T192823
CREATED:20221026T190404Z
LAST-MODIFIED:20240605T210158Z
UID:10000224-1670839200-1670878800@www.stollerykids.com
SUMMARY:Santa Photos | December 12\, 2022
DESCRIPTION:Come support the Stollery Children’s Hospital Foundation while getting your Santa photo taken at the mall! With the support of local shopping centres\, Avonlea Photography Studio will donate 10% of sales from December 12 & 19. \nParticipating Locations\nBonnie Doon Shopping Centre \nKingsway Mall \nLondonderry Mall \nSouthgate Centre
URL:https://www.stollerykids.com/event/santa-photos/
LOCATION:AB
CATEGORIES:Community initiatives
ATTACH;FMTTYPE=image/png:https://www.stollerykids.com/content/uploads/2022/08/Stollery-proudly-supporting-logo_resized.png
ORGANIZER;CN="Devon Riel":MAILTO:devon@avonleastudio.com
END:VEVENT
BEGIN:VEVENT
DTSTART;TZID=America/Edmonton:20221219T100000
DTEND;TZID=America/Edmonton:20221219T210000
DTSTAMP:20260424T192823
CREATED:20221026T224700Z
LAST-MODIFIED:20240605T210155Z
UID:10000226-1671444000-1671483600@www.stollerykids.com
SUMMARY:Santa Photos | December 19\, 2022
DESCRIPTION:Come support the Stollery Children’s Hospital Foundation while getting your Santa photo taken at the mall! With the support of local shopping centres\, Avonlea Photography Studio will donate 10% of sales from December 12 & 19. Please contact Devon at 780.482.4747 for more information. \nParticipating Locations\nBonnie Doon Shopping Centre \nKingsway Mall \nLondonderry Mall \nSouthgate Centre
URL:https://www.stollerykids.com/event/santa-photos-2/
LOCATION:AB
CATEGORIES:Community initiatives
ATTACH;FMTTYPE=image/png:https://www.stollerykids.com/content/uploads/2022/08/Stollery-proudly-supporting-logo_resized.png
ORGANIZER;CN="Devon Riel":MAILTO:devon@avonleastudio.com
END:VEVENT
BEGIN:VEVENT
DTSTART;TZID=America/Edmonton:20221222T190000
DTEND;TZID=America/Edmonton:20221222T220000
DTSTAMP:20260424T192823
CREATED:20221116T203620Z
LAST-MODIFIED:20221129T175533Z
UID:10000227-1671735600-1671746400@www.stollerykids.com
SUMMARY:Pureoctane & Experience Points Show for the Stollery
DESCRIPTION:Join Pureoctane and Experience Points at the Rec Room South Edmonton for an evening of live anime and video game music. Doors open at 7 p.m.\, show starts at 8 p.m. There is no cost to attend. Donations are being collected for the Stollery Children’s Hospital Foundation. For more information\, email Jacob at jawt2121@outlook.com
URL:https://www.stollerykids.com/event/pureoctane-experience-points-show-for-the-stollery/
LOCATION:The Rec Room South Edmonton\, 1725 99 St NW\, Edmonton\, AB
CATEGORIES:Community initiatives
ATTACH;FMTTYPE=image/png:https://www.stollerykids.com/content/uploads/2022/08/Stollery-proudly-supporting-logo_resized.png
ORGANIZER;CN="Jacob Tanner":MAILTO:jawt2121@outlook.com
END:VEVENT
BEGIN:VEVENT
DTSTART;TZID=America/Edmonton:20221231T190000
DTEND;TZID=America/Edmonton:20230101T030000
DTSTAMP:20260424T192823
CREATED:20221026T195720Z
LAST-MODIFIED:20221107T210752Z
UID:10000225-1672513200-1672542000@www.stollerykids.com
SUMMARY:Edmonton International New Year's Eve Gala
DESCRIPTION:The Edmonton International New Year’s Eve Gala is a spectacular evening of food\, fun and entertainment\, taking place in the Beverley Hills Ballroom at the Fantasyland Hotel. Net proceeds from the silent auction will be donated to the Stollery Children’s Hospital Foundation.
URL:https://www.stollerykids.com/event/edmonton-international-new-years-eve-gala/
LOCATION:Beverley Hills Ballroom\, Fantasyland Hotel\, 17700 87 Ave\, Edmonton\, Alberta\, T5T V4V\, Canada
CATEGORIES:Community initiatives
ATTACH;FMTTYPE=image/png:https://www.stollerykids.com/content/uploads/2022/08/Stollery-proudly-supporting-logo_resized.png
ORGANIZER;CN="Richard Tomski":MAILTO:edgala@telus.net
END:VEVENT
END:VCALENDAR