BEGIN:VCALENDAR
VERSION:2.0
PRODID:-//Stollery Children&#039;s Hospital Foundation - ECPv6.15.20//NONSGML v1.0//EN
CALSCALE:GREGORIAN
METHOD:PUBLISH
X-ORIGINAL-URL:https://www.stollerykids.com
X-WR-CALDESC:Events for Stollery Children&#039;s Hospital Foundation
REFRESH-INTERVAL;VALUE=DURATION:PT1H
X-Robots-Tag:noindex
X-PUBLISHED-TTL:PT1H
BEGIN:VTIMEZONE
TZID:America/Edmonton
BEGIN:DAYLIGHT
TZOFFSETFROM:-0700
TZOFFSETTO:-0600
TZNAME:MDT
DTSTART:20220313T090000
END:DAYLIGHT
BEGIN:STANDARD
TZOFFSETFROM:-0600
TZOFFSETTO:-0700
TZNAME:MST
DTSTART:20221106T080000
END:STANDARD
BEGIN:DAYLIGHT
TZOFFSETFROM:-0700
TZOFFSETTO:-0600
TZNAME:MDT
DTSTART:20230312T090000
END:DAYLIGHT
BEGIN:STANDARD
TZOFFSETFROM:-0600
TZOFFSETTO:-0700
TZNAME:MST
DTSTART:20231105T080000
END:STANDARD
BEGIN:DAYLIGHT
TZOFFSETFROM:-0700
TZOFFSETTO:-0600
TZNAME:MDT
DTSTART:20240310T090000
END:DAYLIGHT
BEGIN:STANDARD
TZOFFSETFROM:-0600
TZOFFSETTO:-0700
TZNAME:MST
DTSTART:20241103T080000
END:STANDARD
END:VTIMEZONE
BEGIN:VEVENT
DTSTART;VALUE=DATE:20230303
DTEND;VALUE=DATE:20230306
DTSTAMP:20260424T134633
CREATED:20230126T215553Z
LAST-MODIFIED:20230126T215857Z
UID:10000244-1677801600-1678060799@www.stollerykids.com
SUMMARY:World's Longest Hockey Game for Kids
DESCRIPTION:Hockey brought so much joy to Ben Stelter’s life. Kids like Ben\, who are diagnosed with cancer are sometimes stuck indoors and in treatments that don’t allow them to enjoy pastimes or everyday hobbies. Those fun things like playing hockey\, hanging with their friends and enjoying the outdoors. \nOur group of kids and their families want to help those who can’t be there with us playing hockey\, join us in supporting little Ben’s memory and all those kids battling right now. \nHope and Cure. We all have hope for kids going through cancer. The kids participating and fundraising in this event are helping to find a cure. \nAll donations will be in support of the Ben Stelter Fund. \nPlease click on the Event website link below to make a donation or contact the event organizer if you’re interested in participating.
URL:https://www.stollerykids.com/event/worlds-longest-hockey-game-for-kids/
LOCATION:AB
CATEGORIES:Community initiatives
ATTACH;FMTTYPE=image/png:https://www.stollerykids.com/content/uploads/2023/01/Kids-WLHG-logo.png
ORGANIZER;CN="Dustin MacMillan":MAILTO:dustin@cowan.ca
END:VEVENT
END:VCALENDAR