BEGIN:VCALENDAR
VERSION:2.0
PRODID:-//Stollery Children&#039;s Hospital Foundation - ECPv6.15.20//NONSGML v1.0//EN
CALSCALE:GREGORIAN
METHOD:PUBLISH
X-ORIGINAL-URL:https://www.stollerykids.com
X-WR-CALDESC:Events for Stollery Children&#039;s Hospital Foundation
REFRESH-INTERVAL;VALUE=DURATION:PT1H
X-Robots-Tag:noindex
X-PUBLISHED-TTL:PT1H
BEGIN:VTIMEZONE
TZID:America/Edmonton
BEGIN:DAYLIGHT
TZOFFSETFROM:-0700
TZOFFSETTO:-0600
TZNAME:MDT
DTSTART:20220313T090000
END:DAYLIGHT
BEGIN:STANDARD
TZOFFSETFROM:-0600
TZOFFSETTO:-0700
TZNAME:MST
DTSTART:20221106T080000
END:STANDARD
BEGIN:DAYLIGHT
TZOFFSETFROM:-0700
TZOFFSETTO:-0600
TZNAME:MDT
DTSTART:20230312T090000
END:DAYLIGHT
BEGIN:STANDARD
TZOFFSETFROM:-0600
TZOFFSETTO:-0700
TZNAME:MST
DTSTART:20231105T080000
END:STANDARD
BEGIN:DAYLIGHT
TZOFFSETFROM:-0700
TZOFFSETTO:-0600
TZNAME:MDT
DTSTART:20240310T090000
END:DAYLIGHT
BEGIN:STANDARD
TZOFFSETFROM:-0600
TZOFFSETTO:-0700
TZNAME:MST
DTSTART:20241103T080000
END:STANDARD
END:VTIMEZONE
BEGIN:VEVENT
DTSTART;TZID=America/Edmonton:20230401T100000
DTEND;TZID=America/Edmonton:20230401T150000
DTSTAMP:20260424T120722
CREATED:20230313T164055Z
LAST-MODIFIED:20230313T164055Z
UID:10000250-1680343200-1680361200@www.stollerykids.com
SUMMARY:Easter Bunny Test Run
DESCRIPTION:Join the Calhoun family for the 4th annual Easter Bunny Test Run. This fun-filled event includes a horse drawn buggy ride and photos with the Easter Bunny. Donations will be accepted for the Stollery Children’s Hospital Foundation. For more information visit https://www.facebook.com/bunnytestrun
URL:https://www.stollerykids.com/event/easter-bunny-test-run/
LOCATION:Blue Ridge & District Community League\, 304 2nd Ave\, Blue Ridge\, Alberta\, T0E 0B0\, Canada
CATEGORIES:Community initiatives
ATTACH;FMTTYPE=image/png:https://www.stollerykids.com/content/uploads/2022/08/Stollery-proudly-supporting-logo_resized.png
ORGANIZER;CN="Melanie Calhoun":MAILTO:akuda2216@hotmail.com
END:VEVENT
BEGIN:VEVENT
DTSTART;TZID=America/Edmonton:20230401T133000
DTEND;TZID=America/Edmonton:20230401T163000
DTSTAMP:20260424T120722
CREATED:20230202T174728Z
LAST-MODIFIED:20250723T223547Z
UID:10000151-1680355800-1680366600@www.stollerykids.com
SUMMARY:WFG Hockey Classic 2023
DESCRIPTION:Join the World Financial Group at the Ice Palace – West Edmonton Mall for the WFG Hockey Classic. Stop by and watch a hockey game between Edmonton and Calgary WFG teams. Spectators are encouraged to cheer on the players as they raise funds and collect donations in support of the Stollery Children’s Hospital Foundation. Please contact Jarek Chin at jarek.chin@gmail.com for more information.
URL:https://www.stollerykids.com/event/wfg-hockey-classic-2023/
LOCATION:Ice Palace – West Edmonton Mall\, 8882 170 St NW\, Edmonton\, Alberta\, T5T 4J2\, Canada
CATEGORIES:Community initiatives
ATTACH;FMTTYPE=image/png:https://www.stollerykids.com/content/uploads/2022/08/Stollery-proudly-supporting-logo_resized.png
ORGANIZER;CN="Jarek Chin":MAILTO:jarek.chin@gmail.com
END:VEVENT
BEGIN:VEVENT
DTSTART;TZID=America/Edmonton:20230405T100000
DTEND;TZID=America/Edmonton:20230406T160000
DTSTAMP:20260424T120722
CREATED:20230202T172654Z
LAST-MODIFIED:20230404T151800Z
UID:10000150-1680688800-1680796800@www.stollerykids.com
SUMMARY:Stollery Youth Committee - Spring Bake Sale
DESCRIPTION:The Stollery Youth Committee is hosting a spring-themed bake sale\, with all proceeds donated to the Stollery Children’s Hospital Foundation. Stop by the College Plaza lobby from 10 am – 2 pm on April 5 & 6 to purchase sweet treats for a good cause.
URL:https://www.stollerykids.com/event/stollery-youth-committee-spring-bake-sale/
LOCATION:College Plaza\, 8215 112 St NW\, Edmonton\, Alberta\, T6G 2C8
CATEGORIES:Community initiatives
ATTACH;FMTTYPE=image/png:https://www.stollerykids.com/content/uploads/2022/08/Stollery-proudly-supporting-logo_resized.png
ORGANIZER;CN="Stollery Youth Committee":MAILTO:syc@ualberta.ca
END:VEVENT
BEGIN:VEVENT
DTSTART;TZID=America/Edmonton:20230411T080000
DTEND;TZID=America/Edmonton:20230413T180000
DTSTAMP:20260424T120722
CREATED:20230411T173741Z
LAST-MODIFIED:20230411T180610Z
UID:10000158-1681200000-1681408800@www.stollerykids.com
SUMMARY:Ben Stelter Cupcake and Cupcake Packs
DESCRIPTION:Just in time to celebrate the last home game of the season and the Edmonton Oilers clinching a playoff spot\, Crave Cupcakes has created special “Ben Stelter” cupcakes and cupcake pack.⁠\nAll proceeds from the sale of each single “Play LaBamba\, Baby”\, “Orange Heart” cupcake\, and “Ben Stelter cupcake pack” will be donated to the Ben Stelter Fund at the Stollery Children’s Hospital Foundation to celebrate Ben’s life and impact. ⁠\n⁠\nCupcakes and packs are available at the Edmonton location ONLY! Pre-orders will be available online at cravecupcakes.ca starting April 6 and available in-store on April 13. ⁠
URL:https://www.stollerykids.com/event/ben-stelter-cupcake-and-cupcake-packs/
LOCATION:Crave Cupcakes\, 7929 104 St NW\, Edmonton\, Alberta\, T6E 1V1\, Canada
CATEGORIES:Community initiatives
ATTACH;FMTTYPE=image/png:https://www.stollerykids.com/content/uploads/2022/08/Stollery-proudly-supporting-logo_resized.png
END:VEVENT
BEGIN:VEVENT
DTSTART;TZID=America/Edmonton:20230415T170000
DTEND;TZID=America/Edmonton:20230415T210000
DTSTAMP:20260424T120722
CREATED:20230406T152142Z
LAST-MODIFIED:20230406T152142Z
UID:10000256-1681578000-1681592400@www.stollerykids.com
SUMMARY:Recruit Class 156 Silent Auction and Fundraiser
DESCRIPTION:Edmonton Fire Rescue Service Recruit Class 156 is hosting an event at the Cabin Pub & Party on Jasper Avenue to support the Neurosurgery Kids Fund at the Stollery Children’s Hospital Foundation. Connect with community and bid on silent auction items\, all for a good cause. Tickets are available at the door.
URL:https://www.stollerykids.com/event/recruit-class-156-silent-auction-and-fundraiser/
LOCATION:The Cabin Pub & Party\, 11606 Jasper Ave\, Edmonton\, Alberta\, T5K 0N2\, Canada
CATEGORIES:Community initiatives
ATTACH;FMTTYPE=image/png:https://www.stollerykids.com/content/uploads/2022/08/Stollery-proudly-supporting-logo_resized.png
ORGANIZER;CN="Grayson McBride":MAILTO:grayson.mcbride@edmonton.ca
END:VEVENT
BEGIN:VEVENT
DTSTART;TZID=America/Edmonton:20230426T183000
DTEND;TZID=America/Edmonton:20230426T213000
DTSTAMP:20260424T120722
CREATED:20230414T174504Z
LAST-MODIFIED:20240605T213842Z
UID:10000159-1682533800-1682544600@www.stollerykids.com
SUMMARY:Unicorns for a Cause
DESCRIPTION:Come out to the Glass Café for crafts\, mocktails\, live music\, a silent auction and more. Ticket sales and donations will go to the Stollery Children’s Hospital Foundation. Silent auction proceeds will be donated to the Kids with Cancer Society. For more information or to purchase a ticket\, visit https://stollery.crowdchange.ca/29492
URL:https://www.stollerykids.com/event/unicorns-for-a-cause/
LOCATION:The Glass Cafe\, 10345 107 St NW\, Edmonton\, Alberta\, T5J 1K3\, Canada
CATEGORIES:Community initiatives
ATTACH;FMTTYPE=image/png:https://www.stollerykids.com/content/uploads/2022/08/Stollery-proudly-supporting-logo_resized.png
ORGANIZER;CN="Brett Spady":MAILTO:brettspady@gmail.com
END:VEVENT
BEGIN:VEVENT
DTSTART;TZID=America/Edmonton:20230429T170000
DTEND;TZID=America/Edmonton:20230429T230000
DTSTAMP:20260424T120722
CREATED:20230202T175207Z
LAST-MODIFIED:20230202T175207Z
UID:10000152-1682787600-1682809200@www.stollerykids.com
SUMMARY:PhilSA's Annual Fundraising Gala
DESCRIPTION:Join the Philippine Students’ Association (PhilSA) for an evening of Filipino culture\, cuisine\, entertainment\, dancing\, and more! The gala theme is Bayanihan: It Takes a Village\, as it represents the Filipino culture of coming together and helping each other. Funds raised will support the Stollery Children’s Hospital Foundation and Angat Buhay in the Philippines. Contact Nickos at philsa@ualberta.ca for more information.
URL:https://www.stollerykids.com/event/philsas-annual-fundraising-gala/
LOCATION:Edmonton Inn & Conference Centre\, 11834 Kingsway NW\, Edmonton\, Alberta\, T5G 3J5\, Canada
CATEGORIES:Community initiatives
ATTACH;FMTTYPE=image/png:https://www.stollerykids.com/content/uploads/2022/08/Stollery-proudly-supporting-logo_resized.png
ORGANIZER;CN="Nickos Callueng":MAILTO:philsa@ualberta.ca
END:VEVENT
END:VCALENDAR