BEGIN:VCALENDAR
VERSION:2.0
PRODID:-//Stollery Children&#039;s Hospital Foundation - ECPv6.15.20//NONSGML v1.0//EN
CALSCALE:GREGORIAN
METHOD:PUBLISH
X-WR-CALNAME:Stollery Children&#039;s Hospital Foundation
X-ORIGINAL-URL:https://www.stollerykids.com
X-WR-CALDESC:Events for Stollery Children&#039;s Hospital Foundation
REFRESH-INTERVAL;VALUE=DURATION:PT1H
X-Robots-Tag:noindex
X-PUBLISHED-TTL:PT1H
BEGIN:VTIMEZONE
TZID:America/Edmonton
BEGIN:DAYLIGHT
TZOFFSETFROM:-0700
TZOFFSETTO:-0600
TZNAME:MDT
DTSTART:20220313T090000
END:DAYLIGHT
BEGIN:STANDARD
TZOFFSETFROM:-0600
TZOFFSETTO:-0700
TZNAME:MST
DTSTART:20221106T080000
END:STANDARD
BEGIN:DAYLIGHT
TZOFFSETFROM:-0700
TZOFFSETTO:-0600
TZNAME:MDT
DTSTART:20230312T090000
END:DAYLIGHT
BEGIN:STANDARD
TZOFFSETFROM:-0600
TZOFFSETTO:-0700
TZNAME:MST
DTSTART:20231105T080000
END:STANDARD
BEGIN:DAYLIGHT
TZOFFSETFROM:-0700
TZOFFSETTO:-0600
TZNAME:MDT
DTSTART:20240310T090000
END:DAYLIGHT
BEGIN:STANDARD
TZOFFSETFROM:-0600
TZOFFSETTO:-0700
TZNAME:MST
DTSTART:20241103T080000
END:STANDARD
END:VTIMEZONE
BEGIN:VEVENT
DTSTART;TZID=America/Edmonton:20230602T200000
DTEND;TZID=America/Edmonton:20230602T233000
DTSTAMP:20260424T081358
CREATED:20230519T151241Z
LAST-MODIFIED:20230519T151241Z
UID:10000166-1685736000-1685748600@www.stollerykids.com
SUMMARY:Accelerated Revolution Foundation's Pub Night
DESCRIPTION:Come out to Accelerated Revolution Foundation’s Pub Night at On The Rocks\, in support of Stollery kids.
URL:https://www.stollerykids.com/event/accelerated-revolution-foundations-pub-night/
LOCATION:On the Rocks\, 11740 Jasper Ave\, Edmonton\, Alberta\, T5K 0N3\, Canada
CATEGORIES:Community initiatives
ATTACH;FMTTYPE=image/png:https://www.stollerykids.com/content/uploads/2022/08/Stollery-proudly-supporting-logo_resized.png
ORGANIZER;CN="Crystal Rhayn-Koch":MAILTO:Sylvan@acceleratedrevolution.com
END:VEVENT
BEGIN:VEVENT
DTSTART;TZID=America/Edmonton:20230607T183000
DTEND;TZID=America/Edmonton:20230607T213000
DTSTAMP:20260424T081358
CREATED:20230426T161309Z
LAST-MODIFIED:20230426T161309Z
UID:10000162-1686162600-1686173400@www.stollerykids.com
SUMMARY:Fine Wines by Liquor Select
DESCRIPTION:Come down and sample from more than 70 specialty wines\, craft beers and artisan spirits. Sip and mingle while you find your new favorite summer beverages. Donations will be collected at the door for the Stollery Children’s Hospital Foundation. For more information\, contact Jeff Sparling at wine@liquorselect.com.
URL:https://www.stollerykids.com/event/fine-wines-by-liquor-select/
LOCATION:Fine Wines by Liquor Select\, 8924 149 St\, Edmonton\, Alberta\, T5R 1B8\, Canada
CATEGORIES:Community initiatives
ATTACH;FMTTYPE=image/png:https://www.stollerykids.com/content/uploads/2022/08/Stollery-proudly-supporting-logo_resized.png
ORGANIZER;CN="Jeff Sparling":MAILTO:wine@liquorselect.com
END:VEVENT
BEGIN:VEVENT
DTSTART;TZID=America/Edmonton:20230610T090000
DTEND;TZID=America/Edmonton:20230610T130000
DTSTAMP:20260424T081358
CREATED:20230202T161855Z
LAST-MODIFIED:20250723T223154Z
UID:10000247-1686387600-1686402000@www.stollerykids.com
SUMMARY:Targets for Tots 2023
DESCRIPTION:Join Beaverhill Sporting Clays for a day of shooting sports clays in support of the Stollery Children’s Hospital Foundation. Activities will include a day of shooting\, BBQ lunch\, 50/50 and silent auction. For more information\, contact Nicole at targetfortots@gmail.com.
URL:https://www.stollerykids.com/event/targets-for-tots-2023/
LOCATION:Beaverhill Sporting Clays\, 52309 Range Road 191\, Tofield\, Alberta\, T0B 4J0\, Canada
CATEGORIES:Community initiatives
ATTACH;FMTTYPE=image/png:https://www.stollerykids.com/content/uploads/2022/08/Stollery-proudly-supporting-logo_resized.png
ORGANIZER;CN="Nicole Loitz":MAILTO:targetsfortots@gmail.com
END:VEVENT
BEGIN:VEVENT
DTSTART;TZID=America/Edmonton:20230617T110000
DTEND;TZID=America/Edmonton:20230617T160000
DTSTAMP:20260424T081358
CREATED:20230313T201249Z
LAST-MODIFIED:20240605T221906Z
UID:10000251-1686999600-1687017600@www.stollerykids.com
SUMMARY:Racing for a Cure
DESCRIPTION:Racing for a Cure is an action-packed day that starts off with helicopter rides and a ride in an exotic car for Stollery kids. There is an afternoon public show and shine with family-friendly activities and an evening gala with silent and live auctions. All proceeds of the event are donated to the Stollery Children’s Hospital Foundation. \nFor more information or to register click here.
URL:https://www.stollerykids.com/event/racing-for-a-cure/
LOCATION:AB
CATEGORIES:Community initiatives
ATTACH;FMTTYPE=image/jpeg:https://www.stollerykids.com/content/uploads/2023/03/Logo.jpg
END:VEVENT
BEGIN:VEVENT
DTSTART;TZID=America/Edmonton:20230624T130000
DTEND;TZID=America/Edmonton:20230624T180000
DTSTAMP:20260424T081358
CREATED:20230619T210932Z
LAST-MODIFIED:20230619T210932Z
UID:10000167-1687611600-1687629600@www.stollerykids.com
SUMMARY:Cars for Ben
DESCRIPTION:Come down to At The TRAX Public House for a family-friendly car show in support of the Ben Stelter Fund at the Stollery Children’s Hospital Foundation. There will be raffles\, a silent auction\, 50/50\, merchandise and food. Contact Stuart Kroeze at stuartv@telus.net for more information.
URL:https://www.stollerykids.com/event/cars-for-ben/
LOCATION:At The TRAX Public House\, 304 Westgrove Dr\, Spruce Grove\, AB\, T7X 4P9\, Canada
CATEGORIES:Community initiatives
ATTACH;FMTTYPE=image/png:https://www.stollerykids.com/content/uploads/2022/08/Stollery-proudly-supporting-logo_resized.png
ORGANIZER;CN="Stuart Kroeze":MAILTO:stuartv@telus.net
END:VEVENT
END:VCALENDAR