BEGIN:VCALENDAR
VERSION:2.0
PRODID:-//Stollery Children&#039;s Hospital Foundation - ECPv6.15.20//NONSGML v1.0//EN
CALSCALE:GREGORIAN
METHOD:PUBLISH
X-WR-CALNAME:Stollery Children&#039;s Hospital Foundation
X-ORIGINAL-URL:https://www.stollerykids.com
X-WR-CALDESC:Events for Stollery Children&#039;s Hospital Foundation
REFRESH-INTERVAL;VALUE=DURATION:PT1H
X-Robots-Tag:noindex
X-PUBLISHED-TTL:PT1H
BEGIN:VTIMEZONE
TZID:America/Edmonton
BEGIN:DAYLIGHT
TZOFFSETFROM:-0700
TZOFFSETTO:-0600
TZNAME:MDT
DTSTART:20220313T090000
END:DAYLIGHT
BEGIN:STANDARD
TZOFFSETFROM:-0600
TZOFFSETTO:-0700
TZNAME:MST
DTSTART:20221106T080000
END:STANDARD
BEGIN:DAYLIGHT
TZOFFSETFROM:-0700
TZOFFSETTO:-0600
TZNAME:MDT
DTSTART:20230312T090000
END:DAYLIGHT
BEGIN:STANDARD
TZOFFSETFROM:-0600
TZOFFSETTO:-0700
TZNAME:MST
DTSTART:20231105T080000
END:STANDARD
BEGIN:DAYLIGHT
TZOFFSETFROM:-0700
TZOFFSETTO:-0600
TZNAME:MDT
DTSTART:20240310T090000
END:DAYLIGHT
BEGIN:STANDARD
TZOFFSETFROM:-0600
TZOFFSETTO:-0700
TZNAME:MST
DTSTART:20241103T080000
END:STANDARD
END:VTIMEZONE
BEGIN:VEVENT
DTSTART;TZID=America/Edmonton:20230811T141500
DTEND;TZID=America/Edmonton:20230812T144500
DTSTAMP:20260424T043628
CREATED:20230621T183529Z
LAST-MODIFIED:20230623T165958Z
UID:10000259-1691763300-1691851500@www.stollerykids.com
SUMMARY:Fort Saskatchewan Minor Football Association 24-Hour Flag-A-Thon
DESCRIPTION:Fort Saskatchewan Minor Football Association will be hosting a 24-hour Flag Football Marathon at Taurus Field starting Friday\, August 11\, 2023\, from 2:15 p.m. until Saturday\, August 12\, 2023\, at 2:45 p.m. They will have food trucks\, face painting\, balloon animals and a meet and greet with the Edmonton Elks. Proceeds raised will be donated to the Stollery Children’s Hospital Foundation.
URL:https://www.stollerykids.com/event/fort-saskatchewan-minor-football-association-24-flag-a-thon/
LOCATION:Taurus Field\, 8200 Southfort Dr\, Fort Saskatchewan\, AB\, T8L 4P5\, Canada
CATEGORIES:Community initiatives
ATTACH;FMTTYPE=image/jpeg:https://www.stollerykids.com/content/uploads/2023/06/CI_ProudlySupporting_2015_Colour_FINAL-small.jpg
ORGANIZER;CN="Nicole McMath":MAILTO:fsmfa.waysandmeans@gmail.com
END:VEVENT
BEGIN:VEVENT
DTSTART;VALUE=DATE:20230819
DTEND;VALUE=DATE:20230820
DTSTAMP:20260424T043629
CREATED:20230425T171009Z
LAST-MODIFIED:20240605T213741Z
UID:10000161-1692403200-1692489599@www.stollerykids.com
SUMMARY:Steps for the Stollery
DESCRIPTION:Dale Stratichuk\, wife and friend will be walking from Jasper to the Stollery Children’s Hospital from August 19-25. His inspiration is his son\, who just underwent his second brain surgery.  To learn more or to support Dale’s walk\, visit https://stolleryci.crowdchange.ca/stepsforthestollery
URL:https://www.stollerykids.com/event/steps-for-the-stollery/
LOCATION:AB
CATEGORIES:Community initiatives
ATTACH;FMTTYPE=image/png:https://www.stollerykids.com/content/uploads/2022/08/Stollery-proudly-supporting-logo_resized.png
ORGANIZER;CN="Dale Stratichuk":MAILTO:dnry2019@gmail.com
END:VEVENT
BEGIN:VEVENT
DTSTART;TZID=America/Edmonton:20230819T160000
DTEND;TZID=America/Edmonton:20230819T210000
DTSTAMP:20260424T043629
CREATED:20230406T152939Z
LAST-MODIFIED:20230406T152939Z
UID:10000254-1692460800-1692478800@www.stollerykids.com
SUMMARY:Reed's Open your Heart to the Stollery
DESCRIPTION:Come out and enjoy the races at the Edmonton International Raceway on August 19. Funds raised from 50/50 ticket sales will be donated to the Stollery Children’s Hospital Foundation.
URL:https://www.stollerykids.com/event/reeds-open-your-heart-to-the-stollery/
LOCATION:Edmonton International Raceway\, 244047A\, Township Rd 464\, Wetaskiwin\, Alberta\, T9A 2B7\, Canada
CATEGORIES:Community initiatives
ATTACH;FMTTYPE=image/png:https://www.stollerykids.com/content/uploads/2022/08/Stollery-proudly-supporting-logo_resized.png
ORGANIZER;CN="Aimee Rusnell":MAILTO:aimrus82@gmail.com
END:VEVENT
BEGIN:VEVENT
DTSTART;TZID=America/Edmonton:20230819T170000
DTEND;TZID=America/Edmonton:20230819T233000
DTSTAMP:20260424T043629
CREATED:20230724T143330Z
LAST-MODIFIED:20240401T160719Z
UID:10000262-1692464400-1692487800@www.stollerykids.com
SUMMARY:Hawaiian Lei Night
DESCRIPTION:The Pacific Island Dance Troupe invites you to their Hawaiian Lei Night. This is a luau experience for the whole family. Join them for a dinner\, show\, dance\, silent auction and more. Proceeds from the silent auction and a portion of ticket sales will be donated to the Stollery Children’s Hospital Foundation.
URL:https://www.stollerykids.com/event/hawaiian-lei-night/
LOCATION:Century Casino\, 13103 Fort Rd NW\, Edmonton\, AB\, T5A 1C3
CATEGORIES:Community initiatives
ATTACH;FMTTYPE=image/png:https://www.stollerykids.com/content/uploads/2022/08/Stollery-proudly-supporting-logo_resized.png
ORGANIZER;CN="Emily Soriano":MAILTO:esoriano1966@gmail.com
END:VEVENT
BEGIN:VEVENT
DTSTART;TZID=America/Edmonton:20230827T100000
DTEND;TZID=America/Edmonton:20230827T180000
DTSTAMP:20260424T043629
CREATED:20230317T173935Z
LAST-MODIFIED:20240605T210043Z
UID:10000252-1693130400-1693159200@www.stollerykids.com
SUMMARY:Gabby's Big Heart Charity Golf Tournament 2023
DESCRIPTION:Join Gabby and her family for a day of fun at their 9th annual golf tournament. Golfers will play 18 holes\, followed by a buffet dinner. The tournament raises funds for Cardiology at the Stollery Children’s Hospital Foundation in honour of Gabriella who has benefited from the care of the PCICU team. Funds will be raised through collecting donations and a silent auction.
URL:https://www.stollerykids.com/event/gabbys-big-heart-charity-golf-tournament-2/
LOCATION:Edson Golf Club\, Yellowhead County\, 3905B Golf Course Rd\, Edson\, Alberta\, T7E 3E2\, Canada
CATEGORIES:Community initiatives
ATTACH;FMTTYPE=image/png:https://www.stollerykids.com/content/uploads/2022/08/Stollery-proudly-supporting-logo_resized.png
ORGANIZER;CN="Kristin Basaraba":MAILTO:gabbysbigheart@gmail.com
END:VEVENT
BEGIN:VEVENT
DTSTART;TZID=America/Edmonton:20230831T160000
DTEND;TZID=America/Edmonton:20230831T190000
DTSTAMP:20260424T043629
CREATED:20230714T190751Z
LAST-MODIFIED:20230721T200509Z
UID:10000261-1693497600-1693508400@www.stollerykids.com
SUMMARY:Ordersunshine International's Summer Concert Fundraiser
DESCRIPTION:Students of the Ordersunshine Music and Art Studio will be performing a variety of acts\, including dancing\, singing\, drumming and more at the Southwest Edmonton Farmers’ Market. Donations collected at the event will support the Stollery Children’s Hospital Foundation.
URL:https://www.stollerykids.com/event/ordersunshine-internationals-summer-concert-fundraiser/
LOCATION:Southwest Edmonton Farmers’ Market\, 2051 Leger Rd NW\, Edmonton\, AB\, Canada
CATEGORIES:Community initiatives
ATTACH;FMTTYPE=image/png:https://www.stollerykids.com/content/uploads/2022/08/Stollery-proudly-supporting-logo_resized.png
ORGANIZER;CN="Yang Chen":MAILTO:ordersunshinecy@Gmail.com
END:VEVENT
END:VCALENDAR