BEGIN:VCALENDAR
VERSION:2.0
PRODID:-//Stollery Children&#039;s Hospital Foundation - ECPv6.15.17.1//NONSGML v1.0//EN
CALSCALE:GREGORIAN
METHOD:PUBLISH
X-WR-CALNAME:Stollery Children&#039;s Hospital Foundation
X-ORIGINAL-URL:https://www.stollerykids.com
X-WR-CALDESC:Events for Stollery Children&#039;s Hospital Foundation
REFRESH-INTERVAL;VALUE=DURATION:PT1H
X-Robots-Tag:noindex
X-PUBLISHED-TTL:PT1H
BEGIN:VTIMEZONE
TZID:America/Edmonton
BEGIN:DAYLIGHT
TZOFFSETFROM:-0700
TZOFFSETTO:-0600
TZNAME:MDT
DTSTART:20240310T090000
END:DAYLIGHT
BEGIN:STANDARD
TZOFFSETFROM:-0600
TZOFFSETTO:-0700
TZNAME:MST
DTSTART:20241103T080000
END:STANDARD
BEGIN:DAYLIGHT
TZOFFSETFROM:-0700
TZOFFSETTO:-0600
TZNAME:MDT
DTSTART:20250309T090000
END:DAYLIGHT
BEGIN:STANDARD
TZOFFSETFROM:-0600
TZOFFSETTO:-0700
TZNAME:MST
DTSTART:20251102T080000
END:STANDARD
BEGIN:DAYLIGHT
TZOFFSETFROM:-0700
TZOFFSETTO:-0600
TZNAME:MDT
DTSTART:20260308T090000
END:DAYLIGHT
BEGIN:STANDARD
TZOFFSETFROM:-0600
TZOFFSETTO:-0700
TZNAME:MST
DTSTART:20261101T080000
END:STANDARD
END:VTIMEZONE
BEGIN:VEVENT
DTSTART;TZID=America/Edmonton:20250118T160000
DTEND;TZID=America/Edmonton:20250118T180000
DTSTAMP:20260419T110642
CREATED:20241008T161938Z
LAST-MODIFIED:20241119T224049Z
UID:10000311-1737216000-1737223200@www.stollerykids.com
SUMMARY:Music Spirit Society Charity Concert
DESCRIPTION:Join the Music Spirit Society for an afternoon of classical music featuring Edmonton-based youth ensembles. Genres include piano\, strings\, wind and voice. Ticket sales and donations will support the Stollery Children’s Hospital Foundation. \nGeneral tickets – $15\nStudent/youth tickets – $10\nDonations welcome
URL:https://www.stollerykids.com/event/music-spirit-society-charity-concert-2/
LOCATION:Muttart Hall\, 10050 MacDonald Dr NW\, Edmonton\, AB\, T5T 4R9
CATEGORIES:Community initiatives
ATTACH;FMTTYPE=image/png:https://www.stollerykids.com/content/uploads/2022/08/Stollery-proudly-supporting-logo_resized.png
ORGANIZER;CN="Evan Yin":MAILTO:musicspirit2022@gmail.com
END:VEVENT
BEGIN:VEVENT
DTSTART;TZID=America/Edmonton:20250124T170000
DTEND;TZID=America/Edmonton:20250124T210000
DTSTAMP:20260419T110642
CREATED:20241202T183205Z
LAST-MODIFIED:20241202T183205Z
UID:10000329-1737738000-1737752400@www.stollerykids.com
SUMMARY:Barkadafest
DESCRIPTION:Join the Filipino Barkada Club from Grant MacEwan University for a vibrant celebration of Filipino culture. The evening event will include a buffet dinner\, entertainment\, games\, singing\, dancing and more. A portion of ticket sales and all donations will benefit the Stollery Children’s Hospital Foundation.
URL:https://www.stollerykids.com/event/barkadafest/
LOCATION:Students Association of MacEwan University\, 10850 104 Ave NW\, Edmonton\, AB
CATEGORIES:Community initiatives
ORGANIZER;CN="Herson Dulay":MAILTO:fbcmacu@gmail.com
END:VEVENT
END:VCALENDAR