BEGIN:VCALENDAR
VERSION:2.0
PRODID:-//Stollery Children&#039;s Hospital Foundation - ECPv6.15.17.1//NONSGML v1.0//EN
CALSCALE:GREGORIAN
METHOD:PUBLISH
X-ORIGINAL-URL:https://www.stollerykids.com
X-WR-CALDESC:Events for Stollery Children&#039;s Hospital Foundation
REFRESH-INTERVAL;VALUE=DURATION:PT1H
X-Robots-Tag:noindex
X-PUBLISHED-TTL:PT1H
BEGIN:VTIMEZONE
TZID:America/Edmonton
BEGIN:DAYLIGHT
TZOFFSETFROM:-0700
TZOFFSETTO:-0600
TZNAME:MDT
DTSTART:20210314T090000
END:DAYLIGHT
BEGIN:STANDARD
TZOFFSETFROM:-0600
TZOFFSETTO:-0700
TZNAME:MST
DTSTART:20211107T080000
END:STANDARD
BEGIN:DAYLIGHT
TZOFFSETFROM:-0700
TZOFFSETTO:-0600
TZNAME:MDT
DTSTART:20220313T090000
END:DAYLIGHT
BEGIN:STANDARD
TZOFFSETFROM:-0600
TZOFFSETTO:-0700
TZNAME:MST
DTSTART:20221106T080000
END:STANDARD
BEGIN:DAYLIGHT
TZOFFSETFROM:-0700
TZOFFSETTO:-0600
TZNAME:MDT
DTSTART:20230312T090000
END:DAYLIGHT
BEGIN:STANDARD
TZOFFSETFROM:-0600
TZOFFSETTO:-0700
TZNAME:MST
DTSTART:20231105T080000
END:STANDARD
END:VTIMEZONE
BEGIN:VEVENT
DTSTART;TZID=America/Edmonton:20221112T110000
DTEND;TZID=America/Edmonton:20221112T190000
DTSTAMP:20260419T220539
CREATED:20221014T230816Z
LAST-MODIFIED:20240605T221802Z
UID:10000221-1668250800-1668279600@www.stollerykids.com
SUMMARY:Art for Heart | November 12\, 2022
DESCRIPTION:Art for Heart’s two-week fundraiser kicks off with a flash tattoo day at Black Market Tattoos. Multiple designs available. They also have an online silent auction\, running from November 13-27 and are hosting a live art battle on November 20. Check out the silent auction items here. Proceeds from their auction\, tattoo and art sales and all donations will be donated to the Stollery Children’s Hospital Foundation.
URL:https://www.stollerykids.com/event/art-for-heart-fundraiser/
LOCATION:Black Market Tattoos\, 6713 177 St NW\, Edmonton\, Alberta\, T5T 4K3\, Canada
CATEGORIES:Community initiatives
ATTACH;FMTTYPE=image/png:https://www.stollerykids.com/content/uploads/2022/08/Stollery-proudly-supporting-logo_resized.png
ORGANIZER;CN="David Tuff":MAILTO:davidtuff27@gmail.com
END:VEVENT
BEGIN:VEVENT
DTSTART;VALUE=DATE:20221020
DTEND;VALUE=DATE:20221022
DTSTAMP:20260419T220539
CREATED:20221014T230036Z
LAST-MODIFIED:20221107T212504Z
UID:10000220-1666224000-1666396799@www.stollerykids.com
SUMMARY:Stollery Youth Committee Bake Sale
DESCRIPTION:The Stollery Youth Committee is hosting a two-day fall-themed bake sale in the lobby of College Plaza. Eat sweets for a good cause! All sales will be donated to the Stollery Children’s Hospital Foundation. \nOctober 20 and 21\, 10:00 a.m. – 2:00 p.m. daily
URL:https://www.stollerykids.com/event/stollery-youth-committee-bake-sale/
LOCATION:College Plaza Lobby\, 8215 112 St NW\, Edmonton\, Alberta\, T6G 2C8\, Canada
CATEGORIES:Community initiatives
ATTACH;FMTTYPE=image/png:https://www.stollerykids.com/content/uploads/2022/08/Stollery-proudly-supporting-logo_resized.png
ORGANIZER;CN="Claire de Aguayo":MAILTO:syc@ualberta.ca
END:VEVENT
BEGIN:VEVENT
DTSTART;TZID=America/Edmonton:20221008T120000
DTEND;TZID=America/Edmonton:20221009T170000
DTSTAMP:20260419T220539
CREATED:20220919T211119Z
LAST-MODIFIED:20221011T173755Z
UID:10000219-1665230400-1665334800@www.stollerykids.com
SUMMARY:Doba Art Exhibition
DESCRIPTION:Dickson Obasuyi of Doba Photography will be holding a photography exhibition with 100% of donations being donated to the Stollery Children’s Hospital Foundation. \nThis event runs October 8 and 9\, noon – 5 p.m. daily.
URL:https://www.stollerykids.com/event/doba-art-exhibition/
LOCATION:Enbridge Centre\, 200 - 10175 101 Street NW\, Edmonton\, Alberta\, T5J0H3\, Canada
CATEGORIES:Community initiatives
ATTACH;FMTTYPE=image/png:https://www.stollerykids.com/content/uploads/2022/08/Stollery-proudly-supporting-logo_resized.png
ORGANIZER;CN="Dickson Obasuyi":MAILTO:dobaphotography@gmail.com
END:VEVENT
BEGIN:VEVENT
DTSTART;TZID=America/Edmonton:20221001T180000
DTEND;TZID=America/Edmonton:20221001T220000
DTSTAMP:20260419T220539
CREATED:20220818T215141Z
LAST-MODIFIED:20221005T174225Z
UID:10000212-1664647200-1664661600@www.stollerykids.com
SUMMARY:Season Closer Edmonton 2022
DESCRIPTION:Crownholderzzz is hosting a community car show with live music\, food and more! Proceeds from ticket sales will go to the Stollery Children’s Hospital Foundation.
URL:https://www.stollerykids.com/event/season-closer-edmonton-2022/
LOCATION:Capital GMC Buick\, 9751 34 Ave\, Edmonton\, Alberta\, T6E 5X9\, Canada
CATEGORIES:Community initiatives
ATTACH;FMTTYPE=image/png:https://www.stollerykids.com/content/uploads/2022/08/Stollery-proudly-supporting-logo_resized.png
ORGANIZER;CN="Amar":MAILTO:crownholderzzz@gmail.com
END:VEVENT
BEGIN:VEVENT
DTSTART;TZID=America/Edmonton:20220925T090000
DTEND;TZID=America/Edmonton:20220925T150000
DTSTAMP:20260419T220539
CREATED:20220818T214756Z
LAST-MODIFIED:20240605T210659Z
UID:10000211-1664096400-1664118000@www.stollerykids.com
SUMMARY:Luke’s Legacy Fun Run 2022
DESCRIPTION:What is the Event?\nFamily Fun Run \nWhat activities will be held before/during the event?\nDJ\, face painting\, ballon artist\, activities for kids\, refreshments \nHow will funds be raised?\nRegistration and collecting donations
URL:https://www.stollerykids.com/event/lukes-legacy-fun-run/
LOCATION:Lion’s Park\, 21 Sir Winston Churchill Avenue\, St. Albert\, AB\, T8N 3A3\, Canada
CATEGORIES:Community initiatives
ATTACH;FMTTYPE=image/png:https://www.stollerykids.com/content/uploads/2022/08/Stollery-proudly-supporting-logo_resized.png
ORGANIZER;CN="Tara":MAILTO:tarawhelehan@hotmail.com
END:VEVENT
BEGIN:VEVENT
DTSTART;TZID=America/Edmonton:20220924T160000
DTEND;TZID=America/Edmonton:20220924T200000
DTSTAMP:20260419T220539
CREATED:20220908T152345Z
LAST-MODIFIED:20220909T200948Z
UID:10000217-1664035200-1664049600@www.stollerykids.com
SUMMARY:Music Spirit Society Charity Concert
DESCRIPTION:What is the event?\nThe Music Spirit Society is hosting an evening of classical music featuring Edmonton-based pianists and violinists\, in support of the Stollery Children’s Hospital Foundation.\nHow will funds be raised?\n100% of donations and 80% of ticket sales will be collected by the Music Spirit Society and donated to the Stollery Children’s Hospital Foundation.
URL:https://www.stollerykids.com/event/music-spirit-society-charity-concert/
LOCATION:MacEwan University – Alberta College Campus\, 10050 Macdonald Drive Northwest\, Edmonton\, Alberta\, T5J 0S3\, Canada
CATEGORIES:Community initiatives
ATTACH;FMTTYPE=image/png:https://www.stollerykids.com/content/uploads/2022/08/Stollery-proudly-supporting-logo_resized.png
ORGANIZER;CN="Evan":MAILTO:e.yin@share.epsb.ca
END:VEVENT
BEGIN:VEVENT
DTSTART;TZID=America/Edmonton:20220924T093000
DTEND;TZID=America/Edmonton:20220924T130000
DTSTAMP:20260419T220539
CREATED:20220806T033525Z
LAST-MODIFIED:20220909T200926Z
UID:10000210-1664011800-1664024400@www.stollerykids.com
SUMMARY:Cheryl's Run for Aplastic Anemia
DESCRIPTION:What is the Event?\nAnnual Run/Walk 5K Run/Walk or 10K Run and a Kids Fun Run in support of the Stollery Children’s Hospital Foundation. Food will be provided by The Purple Perogy for all registered participants. \nRegistration: Adults $40/Children $15 \nWhat activities will be held before/during the event?\nWarm Up with Soaring Yoga before heading out on 5k run/walk or 10k run along with our kids fun run. Lunch by the Purple Perogy swag bags and free draws \nHow will funds be raised?\nRegistration is through The Running Room and collecting donations
URL:https://www.stollerykids.com/event/cheryls-run-for-aplastic-anemia/
LOCATION:Laurier Park\, Buena Vista Road NW\, Edmonton\, AB\, Canada
CATEGORIES:Community initiatives
ATTACH;FMTTYPE=image/png:https://www.stollerykids.com/content/uploads/2022/08/Stollery-proudly-supporting-logo_resized.png
ORGANIZER;CN="Norma Kennedy":MAILTO:normak@telusplanet.net
END:VEVENT
BEGIN:VEVENT
DTSTART;VALUE=DATE:20220902
DTEND;VALUE=DATE:20220905
DTSTAMP:20260419T220539
CREATED:20220806T033137Z
LAST-MODIFIED:20240513T212224Z
UID:10000209-1662076800-1662335999@www.stollerykids.com
SUMMARY:KimDen Productions Music Mash
DESCRIPTION:Come check out a great mashup of bands including a blues night\, classic rock from the 80s and a great selection of country artists on day 3! Multiple vendors on site for concessions. VIP tickets available! Early bird tickets on sale July 15th.
URL:https://www.stollerykids.com/event/kimden-productions-music-mash/
LOCATION:9504 96\, 9504 96 Ave\, Westlock\, AB\, Canada
CATEGORIES:Community initiatives
ATTACH;FMTTYPE=image/png:https://www.stollerykids.com/content/uploads/2022/08/Stollery-proudly-supporting-logo_resized.png
ORGANIZER;CN="Dennis Ryan":MAILTO:dennis.ryan@kimdenproductions.com
END:VEVENT
BEGIN:VEVENT
DTSTART;TZID=America/Edmonton:20220827T130000
DTEND;TZID=America/Edmonton:20220827T190000
DTSTAMP:20260419T220539
CREATED:20220719T201356Z
LAST-MODIFIED:20240605T210037Z
UID:10000205-1661605200-1661626800@www.stollerykids.com
SUMMARY:Gabby's Big Heart Charity Golf Tournament 2022
DESCRIPTION:Join Gabby and her family as they celebrate Gabby’s 8th birthday and host their 8th Golf Tournament in support of the Stollery Children’s Hospital Foundation! Be treated to a full day of great golf\, good food and a fabulous time!
URL:https://www.stollerykids.com/event/gabbys-big-heart-charity-golf-tournament/
LOCATION:Edson Golf Club\, Edson\, AB\, 3905B Golf Course Rd\, Edson\, AB\, T7E 3E2\, Canada
CATEGORIES:Community initiatives
ATTACH;FMTTYPE=image/png:https://www.stollerykids.com/content/uploads/2022/08/Stollery-proudly-supporting-logo_resized.png
ORGANIZER;CN="Steve & Kristin Basaraba":MAILTO:gabbysbigheart@gmail.com
END:VEVENT
BEGIN:VEVENT
DTSTART;TZID=America/Edmonton:20220820T120000
DTEND;TZID=America/Edmonton:20220820T170000
DTSTAMP:20260419T220539
CREATED:20220804T040419Z
LAST-MODIFIED:20220819T170808Z
UID:10000206-1660996800-1661014800@www.stollerykids.com
SUMMARY:Eversley Invitational Cars 4 Kids
DESCRIPTION:1st Annual Cars 4 Kids Charity Show N’ Shine just 25 minutes drive north of Edmonton in the Town of Bon Accord. \nAll makes\, models\, years welcome. No registration fees required\, by donation to Stollery Children’s Hospital Foundation. Funds will be raised through a silent auction and donations.
URL:https://www.stollerykids.com/event/cars-4-kids/
LOCATION:Golden City Bistro\, 5044 47 Ave\, Bon Accord\, AB\, T0A 0K0\, Canada
CATEGORIES:Community initiatives
ATTACH;FMTTYPE=image/png:https://www.stollerykids.com/content/uploads/2022/08/Stollery-proudly-supporting-logo_resized.png
ORGANIZER;CN="Mark Eversley":MAILTO:mmeversley@gmail.com
END:VEVENT
END:VCALENDAR