BEGIN:VCALENDAR
VERSION:2.0
PRODID:-//Stollery Children&#039;s Hospital Foundation - ECPv6.15.17.1//NONSGML v1.0//EN
CALSCALE:GREGORIAN
METHOD:PUBLISH
X-ORIGINAL-URL:https://www.stollerykids.com
X-WR-CALDESC:Events for Stollery Children&#039;s Hospital Foundation
REFRESH-INTERVAL;VALUE=DURATION:PT1H
X-Robots-Tag:noindex
X-PUBLISHED-TTL:PT1H
BEGIN:VTIMEZONE
TZID:America/Edmonton
BEGIN:DAYLIGHT
TZOFFSETFROM:-0700
TZOFFSETTO:-0600
TZNAME:MDT
DTSTART:20230312T090000
END:DAYLIGHT
BEGIN:STANDARD
TZOFFSETFROM:-0600
TZOFFSETTO:-0700
TZNAME:MST
DTSTART:20231105T080000
END:STANDARD
BEGIN:DAYLIGHT
TZOFFSETFROM:-0700
TZOFFSETTO:-0600
TZNAME:MDT
DTSTART:20240310T090000
END:DAYLIGHT
BEGIN:STANDARD
TZOFFSETFROM:-0600
TZOFFSETTO:-0700
TZNAME:MST
DTSTART:20241103T080000
END:STANDARD
BEGIN:DAYLIGHT
TZOFFSETFROM:-0700
TZOFFSETTO:-0600
TZNAME:MDT
DTSTART:20250309T090000
END:DAYLIGHT
BEGIN:STANDARD
TZOFFSETFROM:-0600
TZOFFSETTO:-0700
TZNAME:MST
DTSTART:20251102T080000
END:STANDARD
BEGIN:DAYLIGHT
TZOFFSETFROM:-0700
TZOFFSETTO:-0600
TZNAME:MDT
DTSTART:20260308T090000
END:DAYLIGHT
BEGIN:STANDARD
TZOFFSETFROM:-0600
TZOFFSETTO:-0700
TZNAME:MST
DTSTART:20261101T080000
END:STANDARD
BEGIN:DAYLIGHT
TZOFFSETFROM:-0700
TZOFFSETTO:-0600
TZNAME:MDT
DTSTART:20270314T090000
END:DAYLIGHT
BEGIN:STANDARD
TZOFFSETFROM:-0600
TZOFFSETTO:-0700
TZNAME:MST
DTSTART:20271107T080000
END:STANDARD
END:VTIMEZONE
BEGIN:VEVENT
DTSTART;VALUE=DATE:20240308
DTEND;VALUE=DATE:20240309
DTSTAMP:20260423T084357
CREATED:20240321T154825Z
LAST-MODIFIED:20250723T223659Z
UID:10000287-1709856000-1709942399@www.stollerykids.com
SUMMARY:Mighty Millions Lottery | Bonus Prize | Spring 2024
DESCRIPTION:BE MIGHTY and buy your Mighty Millions Lottery tickets by midnight\, March 8 to be in to win the High Rollers Bonus Prize and more!
URL:https://www.stollerykids.com/event/mighty-millions-lottery-bonus-s24/
CATEGORIES:Mighty Millions Lottery
ATTACH;FMTTYPE=image/png:https://www.stollerykids.com/content/uploads/2022/03/StolleryMightyMillionsLotteryLogo_510x55591-e1662756006810.png
END:VEVENT
BEGIN:VEVENT
DTSTART;VALUE=DATE:20240412
DTEND;VALUE=DATE:20240413
DTSTAMP:20260423T084357
CREATED:20240321T154609Z
LAST-MODIFIED:20250723T222732Z
UID:10000286-1712880000-1712966399@www.stollerykids.com
SUMMARY:Mighty Millions Lottery | Early Bird Prize | Spring 2024
DESCRIPTION:BE MIGHTY and buy your Mighty Millions Lottery tickets by midnight\, April 12 to be in to win the Double BMW Early Bird Prize and more! \nNavigate the highway of life in style and comfort with not one\, but TWO luxurious BMWs. The 2025 BMW 430i xDrive Cabriolet delivers both elegance and adventure as you cruise with the top down\, and the 2025 BMW X5’s advanced driving technology provides comfort and dependability for all of your daily tasks. Or take $200\,000 CASH!
URL:https://www.stollerykids.com/event/mighty-millions-lottery-early-bird-s24/
CATEGORIES:Mighty Millions Lottery
ATTACH;FMTTYPE=image/png:https://www.stollerykids.com/content/uploads/2022/03/StolleryMightyMillionsLotteryLogo_510x55591-e1662756006810.png
END:VEVENT
BEGIN:VEVENT
DTSTART;VALUE=DATE:20240503
DTEND;VALUE=DATE:20240504
DTSTAMP:20260423T084357
CREATED:20240321T154330Z
LAST-MODIFIED:20240321T154330Z
UID:10000285-1714694400-1714780799@www.stollerykids.com
SUMMARY:Mighty Millions Lottery | Absolute Final Deadline
DESCRIPTION:BE MIGHTY and buy your Mighty Millions Lottery tickets by midnight\, May 3 to be in to win the Grand Prize Showhome and more!
URL:https://www.stollerykids.com/event/mighty-millions-lottery-absolute-final-deadline-s24/
CATEGORIES:Mighty Millions Lottery
ATTACH;FMTTYPE=image/png:https://www.stollerykids.com/content/uploads/2022/03/StolleryMightyMillionsLotteryLogo_510x55591-e1662756006810.png
END:VEVENT
BEGIN:VEVENT
DTSTART;VALUE=DATE:20240816
DTEND;VALUE=DATE:20240817
DTSTAMP:20260423T084357
CREATED:20240827T161905Z
LAST-MODIFIED:20240827T161954Z
UID:10000298-1723766400-1723852799@www.stollerykids.com
SUMMARY:Mighty Millions Lottery | VIP Prize
DESCRIPTION:BE MIGHTY and buy your Mighty Millions Lottery tickets by midnight\, August 16 to be in to win our Porsche Cayman VIP Prize and more!
URL:https://www.stollerykids.com/event/mighty-millions-lottery-vip-f24/
CATEGORIES:Mighty Millions Lottery
ATTACH;FMTTYPE=image/png:https://www.stollerykids.com/content/uploads/2022/03/StolleryMightyMillionsLotteryLogo_510x55591-e1662756006810.png
END:VEVENT
BEGIN:VEVENT
DTSTART;VALUE=DATE:20240920
DTEND;VALUE=DATE:20240921
DTSTAMP:20260423T084357
CREATED:20240827T162649Z
LAST-MODIFIED:20240827T163125Z
UID:10000299-1726790400-1726876799@www.stollerykids.com
SUMMARY:Mighty Millions Lottery | Bonus Prize
DESCRIPTION:BE MIGHTY and buy your Mighty Millions Lottery tickets by midnight\, September 20 to be in to win our Edmonton Oilers Bonus Prize and more!
URL:https://www.stollerykids.com/event/mighty-millions-lottery-bonus-f24/
CATEGORIES:Mighty Millions Lottery
ATTACH;FMTTYPE=image/png:https://www.stollerykids.com/content/uploads/2022/03/StolleryMightyMillionsLotteryLogo_510x55591-e1662756006810.png
END:VEVENT
BEGIN:VEVENT
DTSTART;VALUE=DATE:20241025
DTEND;VALUE=DATE:20241026
DTSTAMP:20260423T084357
CREATED:20240827T162848Z
LAST-MODIFIED:20240827T162848Z
UID:10000300-1729814400-1729900799@www.stollerykids.com
SUMMARY:Mighty Millions Lottery | Early Bird Prize
DESCRIPTION:BE MIGHTY and buy your Mighty Millions Lottery tickets by midnight\, October 25 to be in to win our Fiji & Maserati Early Bird Prize and more!
URL:https://www.stollerykids.com/event/mighty-millions-lottery-early-bird-f24/
CATEGORIES:Mighty Millions Lottery
ATTACH;FMTTYPE=image/png:https://www.stollerykids.com/content/uploads/2022/03/StolleryMightyMillionsLotteryLogo_510x55591-e1662756006810.png
END:VEVENT
BEGIN:VEVENT
DTSTART;VALUE=DATE:20241115
DTEND;VALUE=DATE:20241116
DTSTAMP:20260423T084357
CREATED:20240827T163022Z
LAST-MODIFIED:20240827T163022Z
UID:10000301-1731628800-1731715199@www.stollerykids.com
SUMMARY:Mighty Millions Lottery | Absolute Final Deadline
DESCRIPTION:BE MIGHTY and buy your Mighty Millions Lottery tickets by midnight\, November 15 to be in to win the Grand Prize Showhome and more!
URL:https://www.stollerykids.com/event/mighty-millions-lottery-absolute-final-deadline-f24/
CATEGORIES:Mighty Millions Lottery
ATTACH;FMTTYPE=image/png:https://www.stollerykids.com/content/uploads/2022/03/StolleryMightyMillionsLotteryLogo_510x55591-e1662756006810.png
END:VEVENT
BEGIN:VEVENT
DTSTART;VALUE=DATE:20260410
DTEND;VALUE=DATE:20260411
DTSTAMP:20260423T084357
CREATED:20260402T170736Z
LAST-MODIFIED:20260402T170812Z
UID:10000417-1775779200-1775865599@www.stollerykids.com
SUMMARY:Mighty Millions Lottery | Early Bird Prize Deadline
DESCRIPTION:BE MIGHTY and buy your Mighty Millions Lottery tickets by midnight\, April 10 to be in to win our BMW & Barcelona Early Bird Prize and MORE! \nEnjoy 10 nights at a 5-star hotel in the magnificent Mediterranean as you discover the timeless beauty of Barcelona. From stunning architecture to the sparkling coastline\, your days will be filled with relaxation\, culture and indulgence\, complete with a dining experience at 3 Michelin star restaurant\, Lasarte. Plus\, $2\,000 spending cash! Upon your return\, a 2026 BMW X5 M60i xDrive will be waiting for you! Slip behind the wheel of its twin-turbocharged 4.4-liter V8 engine and discover a whole new kind of luxury. \nBuy your ticket today
URL:https://www.stollerykids.com/event/mighty-millions-lottery-early-bird-s26/
CATEGORIES:Mighty Millions Lottery
ATTACH;FMTTYPE=image/png:https://www.stollerykids.com/content/uploads/2026/04/Edmonton_MML_Website-Logo_2026.png
END:VEVENT
BEGIN:VEVENT
DTSTART;VALUE=DATE:20260501
DTEND;VALUE=DATE:20260502
DTSTAMP:20260423T084357
CREATED:20260402T173525Z
LAST-MODIFIED:20260402T173703Z
UID:10000418-1777593600-1777679999@www.stollerykids.com
SUMMARY:Mighty Millions Lottery | Absolute Final Deadline
DESCRIPTION:BE MIGHTY and buy your Mighty Millions Lottery tickets by midnight\, May 1 to be in to win the Grand Prize Showhome and more! \nLuxury comes to life in this exceptional 5\,200 sq. ft. home\, tucked away in the sought-after Keswick neighbourhood. Immerse yourself in the natural beauty of your surroundings\, with river views and scenic trails just outside your doorstep. Inside\, expansive open concept spaces are flooded with natural light and dressed in soft palettes. Lavish finishes add a sense of comfort and sophistication that make this home perfect for quiet relaxation or hosting guests. Thoughtfully elevated with a three-car garage\, a designated fitness area\, a music studio and a gourmet kitchen\, this oasis blends timeless elegance with modern functionality. \nBuy your ticket today
URL:https://www.stollerykids.com/event/mighty-millions-lottery-final-s26/
CATEGORIES:Mighty Millions Lottery
ATTACH;FMTTYPE=image/png:https://www.stollerykids.com/content/uploads/2026/04/Edmonton_MML_Website-Logo_2026.png
END:VEVENT
END:VCALENDAR